BEGIN:VCALENDAR

VERSION:2.0

PRODID:-//hacksw/handcal//NONSGML v1.0//EN

BEGIN:VEVENT

UID:1af2c155776283ec7d86a80ff1a49af1

DTSTAMP:20260422T111721Z

DTSTART:20260424T123000

DTEND:20260424T124500

SUMMARY:b43300660d71482ba5664e69bcefcd72 - 7/9 Fortitude Street, Auchenflower QLD 4066

LOCATION:7/9 Fortitude Street, Auchenflower QLD 4066

END:VEVENT

END:VCALENDAR