BEGIN:VCALENDAR

VERSION:2.0

PRODID:-//hacksw/handcal//NONSGML v1.0//EN

BEGIN:VEVENT

UID:0f37b19ba369f401759ef59392003b67

DTSTAMP:20260423T135531Z

DTSTART:20260426T100000

DTEND:20260426T103000

SUMMARY:1P0373 - 5/84 Charlton Street, Ascot QLD 4007

LOCATION:5/84 Charlton Street, Ascot QLD 4007

END:VEVENT

END:VCALENDAR