BEGIN:VCALENDAR

VERSION:2.0

PRODID:-//hacksw/handcal//NONSGML v1.0//EN

BEGIN:VEVENT

UID:6ceb61e1130f3481a27e8031e919d6b7

DTSTAMP:20260424T124109Z

DTSTART:20260426T123000

DTEND:20260426T124500

SUMMARY:b43304ca371541f3bb5dd5474ab35e06 - 21 Wigan St, Mitchelton QLD 4053

LOCATION:21 Wigan St, Mitchelton QLD 4053

END:VEVENT

END:VCALENDAR